BEGIN:VCALENDAR
VERSION:2.0
PRODID:-//ActionCoach Otago - ECPv4.6.3//NONSGML v1.0//EN
CALSCALE:GREGORIAN
METHOD:PUBLISH
X-WR-CALNAME:ActionCoach Otago
X-ORIGINAL-URL:http://actioncoachotago.co.nz
X-WR-CALDESC:Events for ActionCoach Otago
BEGIN:VEVENT
DTSTART;TZID=Pacific/Auckland:20171121T190000
DTEND;TZID=Pacific/Auckland:20171121T203000
DTSTAMP:20180121T123322
CREATED:20171030T034857Z
LAST-MODIFIED:20171030T034920Z
UID:648-1511290800-1511296200@actioncoachotago.co.nz
SUMMARY:Business Growth
DESCRIPTION:“Business Growth in the Internet Environment” \nA FREE Business Growth Seminar in the Target Accounting Boardroom\, 7 Gladstone Rd\, Mosgiel on Tuesday evening 21 November\, 2017 at 7pm \n
URL:http://actioncoachotago.co.nz/event/648/
LOCATION:7 Gladstone Rd\, Mosgiel\, Otago\, 9024\, New Zealand
END:VEVENT
END:VCALENDAR