BEGIN:VCALENDAR
VERSION:2.0
PRODID:-//ActionCoach Otago - ECPv4.6.3//NONSGML v1.0//EN
CALSCALE:GREGORIAN
METHOD:PUBLISH
X-WR-CALNAME:ActionCoach Otago
X-ORIGINAL-URL:http://actioncoachotago.co.nz
X-WR-CALDESC:Events for ActionCoach Otago
BEGIN:VEVENT
DTSTART;TZID=Pacific/Auckland:20170327T120000
DTEND;TZID=Pacific/Auckland:20170327T130000
DTSTAMP:20180121T123349
CREATED:20170312T234933Z
LAST-MODIFIED:20170312T234935Z
UID:530-1490616000-1490619600@actioncoachotago.co.nz
SUMMARY:Business Planning Webinar
DESCRIPTION:\n\n\n\n\n\n\n\nMany Business Owners are often pushed into producing a Business Plan by the bank or some other interested party for finance purposes\, but typically such plans are nothing like the reality of everyday working life. \nNeither do they produce the right results and so they get filed deep into the bottom office drawer and stay there never to be seen or used again. \nEven more Business Owners have never had a plan. \nHowever\, there is always the nagging feeling\, that a decent Business Plan would in fact produce a much better result in the business because it is pretty common knowledge that a great plan produces a great result whether its for work or sport\, business or pleasure. \nSo this seminar will simply show you how to make a useful Business Plan that produces profits for the business. \n\n\n\n\n\n\n\n\n
URL:http://actioncoachotago.co.nz/event/business-planning-webinar/
LOCATION:8 Jones Street\, Dunedin\, Dunedin\, Otago\, 9016\, New Zealand
CATEGORIES:seminar
ATTACH;FMTTYPE=image/png:http://actioncoachotago.co.nz/wp-content/uploads/2017/03/Event-Graphic.png
END:VEVENT
END:VCALENDAR