BEGIN:VCALENDAR
VERSION:2.0
PRODID:-//ActionCoach Otago - ECPv4.6.3//NONSGML v1.0//EN
CALSCALE:GREGORIAN
METHOD:PUBLISH
X-WR-CALNAME:ActionCoach Otago
X-ORIGINAL-URL:http://actioncoachotago.co.nz
X-WR-CALDESC:Events for ActionCoach Otago
BEGIN:VEVENT
DTSTART;TZID=Pacific/Auckland:20170501T160000
DTEND;TZID=Pacific/Auckland:20170501T170000
DTSTAMP:20180121T123206
CREATED:20170409T233815Z
LAST-MODIFIED:20170409T234221Z
UID:557-1493654400-1493658000@actioncoachotago.co.nz
SUMMARY:Free Webinar: 6 Steps to a Better Business
DESCRIPTION:This free training webinar for successful tradies reveals “The 6 Steps to a Better Business” and how you can use them to massively grow your profits and enjoy holidays you deserve. \nRegister now here \n
URL:http://actioncoachotago.co.nz/event/free-webinar-6-steps-better-business/
LOCATION:http://actioncoachotago.co.nz/6steps
CATEGORIES:workshop
ATTACH;FMTTYPE=image/png:http://actioncoachotago.co.nz/wp-content/uploads/2017/04/6-Steps-to-a-Better-Business-Webinar.png
END:VEVENT
END:VCALENDAR