BEGIN:VCALENDAR
VERSION:2.0
PRODID:-//ActionCoach Otago - ECPv4.6.3//NONSGML v1.0//EN
CALSCALE:GREGORIAN
METHOD:PUBLISH
X-WR-CALNAME:ActionCoach Otago
X-ORIGINAL-URL:http://actioncoachotago.co.nz
X-WR-CALDESC:Events for ActionCoach Otago
BEGIN:VEVENT
DTSTART;TZID=Pacific/Auckland:20170220T120000
DTEND;TZID=Pacific/Auckland:20170220T133000
DTSTAMP:20180121T123443
CREATED:20170123T203317Z
LAST-MODIFIED:20170124T212428Z
UID:436-1487592000-1487597400@actioncoachotago.co.nz
SUMMARY:Seminar: How to build a profitable business plan
DESCRIPTION:\n\n\n\n\n\n\n\nTHE #1 CRITICAL FACTOR FOR BUSINESS GROWTH…\n\n\n\n\n\n\n\n\n\n\n\n\n\n\n\nis to\nHAVE A PLAN\n\n\n\n\n\n\n\n\n\n\n\n\n\n\n\nWhen you make your plan\, would you like to ensure that your business produces the profits it could? Here is your Opportunity to Attend … \na Business Planning Seminar: \n\n\n\n\n\n\n\n\n\n\n\n\n\n\n\n\n“How to Build a Profitable Business Plan” \nREGISTER NOW! \n\n\n\n\n\n\n\n\n\n\nWhat is this seminar all about? \n\n\n\n\n\n\n\n\n\n\n\n\n\n\n\n\nMany Business Owners are often pushed into producing a Business Plan by the bank or some other interested party for finance purposes\, but typically such plans are nothing like the reality of everyday working life. \nNeither do they produce the right results and so they get filed deep into the bottom office drawer and stay there never to be seen or used again. \nEven more Business Owners have never had a plan. \nHowever\, there is always the nagging feeling\, that a decent Business Plan would in fact produce a much better result in the business because it is pretty common knowledge that a great plan produces a great result whether its for work or sport\, business or pleasure. \nSo this seminar will simply show you how to make a useful Business Plan that produces profits for the business. \n\n\n\n\n\n\n\n\nAGENDA \n\n\n\n\n\n\n\n\n\n\n\n\n\n\n\n\nThis Business Planning Seminar will be a fast-paced hour and a half of systems and strategy to enable you to make a plan that works. \n 1. You will learn why you actually need a strong\, practical business plan if you want to grow\, thrive or even survive in the current marketplace. We all know the world is changing\, and a proper plan will have you looking forward to a bright future instead of looking back rueing what might have been. \n 2. You will discover what are the 7 Critical Factors your business plan needs to actually benefit your business. A lot of Business owners scrape by\, barely growing or making progress\, a workable plan will take where you want to go \n 3. You will find out how to get started – How can you gather the data required and go through the planning process in the most efficient way. You’ll discover the most effective way to get the details together and shape it all into a powerful plan for your future. \nREGISTER NOW! \n\n\n\n\n\n\n\n\n\n\n\n\n\n\n\n\n\n\n\n\n\n\n\n
URL:http://actioncoachotago.co.nz/event/seminar-build-profitable-business-plan/
LOCATION:8 Jones Street\, Dunedin\, Dunedin\, Otago\, 9016\, New Zealand
CATEGORIES:seminar
ATTACH;FMTTYPE=image/png:http://actioncoachotago.co.nz/wp-content/uploads/2016/12/Building-a-Profitable-Business-Plan.png
ORGANIZER;CN="":MAILTO:otagoadmin@actioncoach.com
END:VEVENT
END:VCALENDAR